BEGIN:VCALENDAR
VERSION:2.0
PRODID:TU Chemnitz
METHOD:PUBLISH
X-WR-CALNAME:Veranstaltungen der TU Chemnitz
X-WR-TIMEZONE:Europe/Berlin
BEGIN:VEVENT
CLASS:PUBLIC
DTSTART;TZID="Europe/Berlin":20061108T134500
DTEND;TZID="Europe/Berlin":20061108T151500
LOCATION:Reichenhainer Str. 70\, Chemnitz (Rühlmann-Bau)
SUMMARY:Nutzerforum des URZ: "IP-Telefonie: Neue Funktionen und Mehrwerte" (Universitätsrechenzentrum)
DESCRIPTION:Diese Veranstaltung ist für alle Telefon-Nutzer der TU Chemnitz interessant\, die mit Ihrem Telefon nicht "nur telefonieren" bzw. die Telefondienste per Web-Browser benutzen wollen.\nDipl.-Inf. Ronald Schmidt
ORGANIZER:MAILTO:rosita.pudlat@hrz.tu-chemnitz.de
UID:7704@www.tu-chemnitz.de
CREATED:20060919T094500Z
DTSTAMP:20210802T195150Z
END:VEVENT
END:VCALENDAR
