BEGIN:VCALENDAR
VERSION:2.0
PRODID:TU Chemnitz
METHOD:PUBLISH
X-WR-CALNAME:Veranstaltungen der TU Chemnitz
X-WR-TIMEZONE:Europe/Berlin
BEGIN:VEVENT
CLASS:PUBLIC
DTSTART;TZID="Europe/Berlin":20060919T200000
DTEND;TZID="Europe/Berlin":20060919T200000
LOCATION:Bunker-Club * Rosenplatz 7 * gleich am Campus
SUMMARY:Live: PETER PAN SPEEDROCK (NL) + THE ACCIDENTS (SWE)
DESCRIPTION:Peter Pan Speedrock - eine der größten Speedrock'n'Roll-Punk-Bands unseres Sonnensystems macht auf ihrer Marathon-Europatour Station in Chemnitz.\nThe Accidents lassen mit ihrem Mix aus Punk\, Rock'n'Roll und Blues vorher die Fetzen fliegen.\ndoors: 20:00
ORGANIZER:MAILTO:schneide@hrz.tu-chemnitz.de
UID:7703@www.tu-chemnitz.de
CREATED:20060919T000000Z
DTSTAMP:20210802T195237Z
END:VEVENT
END:VCALENDAR
