BEGIN:VCALENDAR
VERSION:2.0
PRODID:TU Chemnitz
METHOD:PUBLISH
X-WR-CALNAME:Veranstaltungen der TU Chemnitz
X-WR-TIMEZONE:Europe/Berlin
BEGIN:VEVENT
CLASS:PUBLIC
DTSTART;TZID="Europe/Berlin":20060920T141500
DTEND;TZID="Europe/Berlin":20060920T153000
LOCATION:Reichenhainer Str. 70\, Chemnitz (Rühlmann-Bau)
SUMMARY:Implementation of a PEM fuel cell into an autonomous grid (Fakultät für Elektrotechnik und Informationstechnik\, Leistungselektronik und elektromagnetische Verträglichkeit)
DESCRIPTION:Ida Fuchs\, TU Chemnitz
ORGANIZER:MAILTO:birk.heinze@etit.tu-chemnitz.de
UID:7702@www.tu-chemnitz.de
CREATED:20060918T111000Z
DTSTAMP:20210802T195235Z
END:VEVENT
END:VCALENDAR
