BEGIN:VCALENDAR
VERSION:2.0
PRODID:TU Chemnitz
METHOD:PUBLISH
X-WR-CALNAME:Veranstaltungen der TU Chemnitz
X-WR-TIMEZONE:Europe/Berlin
BEGIN:VEVENT
CLASS:PUBLIC
DTSTART;TZID="Europe/Berlin":19991125T181500
DTEND;TZID="Europe/Berlin":19991125T194500
LOCATION:Uni-Teil 3: Reichenhainer Str. 70\, Chemnitz (Zentr. Hörsaal- und Seminargebäude)
SUMMARY:*** Entfällt!!!***Psychologische Aspekte des Generationenwechsels in Familienunternehmen (Philosophische Fakultät\, Professur Erwachsenenbildung und betriebliche Weiterbildung\, Prof. Dr. Roland Schöne)
DESCRIPTION:***ACHTUNG*** Entfällt wg. Erkrankung der Referentin! Neuer Termin wird rechtzeitig bekanntgegeben!\nDipl.-Psych. Franziska Gerke-Holzhäuer\, Berlin\nMatthias Freitag\, Tel. 0371/531-2641\, matthias.freitag@phil.tu-chemnitz.de
ORGANIZER:MAILTO:mafr@hrz.tu-chemnitz.de
UID:770@www.tu-chemnitz.de
CREATED:19991013T114300Z
DTSTAMP:20210802T203301Z
END:VEVENT
END:VCALENDAR
