BEGIN:VCALENDAR
VERSION:2.0
PRODID:TU Chemnitz
METHOD:PUBLISH
X-WR-CALNAME:Veranstaltungen der TU Chemnitz
X-WR-TIMEZONE:Europe/Berlin
BEGIN:VEVENT
CLASS:PUBLIC
DTSTART;TZID="Europe/Berlin":20060915T210000
DTEND;TZID="Europe/Berlin":20060915T210000
LOCATION:Bunker-Club * Rosenplatz 7 * gleich am Campus
SUMMARY:Live: EASTSIDE BOYS + TOXPACK
DESCRIPTION:Die Eastside Boys bieten feinsten deutschen Punkrock mit leicht metallischen Einflüssen und die Berliner Toxpack zeigen\, was waschechter Streetcore ist.\ndoors: 21.00 uhr
ORGANIZER:MAILTO:schneide@hrz.tu-chemnitz.de
UID:7699@www.tu-chemnitz.de
CREATED:20060915T160200Z
DTSTAMP:20210802T195237Z
END:VEVENT
END:VCALENDAR
