BEGIN:VCALENDAR
VERSION:2.0
PRODID:TU Chemnitz
METHOD:PUBLISH
X-WR-CALNAME:Veranstaltungen der TU Chemnitz
X-WR-TIMEZONE:Europe/Berlin
BEGIN:VEVENT
CLASS:PUBLIC
DTSTART;TZID="Europe/Berlin":20061011T134500
DTEND;TZID="Europe/Berlin":20061011T151500
LOCATION:Reichenhainer Str. 90\, Chemnitz (Zentr. Hörsaal- und Seminargebäude)
SUMMARY:Nutzerforum des URZ: "Elektronische Semesterapparate (ESEM) - Die neue Version"  (Universitätsrechenzentrum\, Universitätsbibliothek)
DESCRIPTION:Diese Veranstaltung ist besonders interessant für alle Durchführenden von Lehrveranstaltungen\, die digitale Materialien bereitstellen wollen. Informieren Sie sich über Aktuelles und die Möglichkeiten\, die sich durch dieses Projekt ergeben.\nDipl.-Bibl. Michael Beese\, Dipl.-Inf. Holger Trapp
ORGANIZER:MAILTO:rosita.pudlat@hrz.tu-chemnitz.de
UID:7693@www.tu-chemnitz.de
CREATED:20060914T125400Z
DTSTAMP:20210802T195225Z
END:VEVENT
END:VCALENDAR
