BEGIN:VCALENDAR
VERSION:2.0
PRODID:TU Chemnitz
METHOD:PUBLISH
X-WR-CALNAME:Veranstaltungen der TU Chemnitz
X-WR-TIMEZONE:Europe/Berlin
BEGIN:VEVENT
CLASS:PUBLIC
DTSTART;TZID="Europe/Berlin":20061010T130000
DTEND;TZID="Europe/Berlin":20061010T163000
LOCATION:Str. der Nationen 62\, Chemnitz (Böttcher-Bau)
SUMMARY:Carl Julius von Bach - Ehrung zum 75. Todestag  (TU Chemnitz\, Institut für Mechanik u. Thermodynamik)
DESCRIPTION:Vorträge:\nProf. Dr. F. Naumann: Der deutsche Maschinenbau und Carl von Bach \nDr. R. Steinbrüchel - Erinnerungen an meinen Großvater \nProf. Dr. E. Roos - Materialprüfung zu Zeiten Bachs und heute\nDipl.-Arch. S. Luther - Zum Bachschen Nachlaß der TU
ORGANIZER:MAILTO:friedrich.naumann@phil.tu-chemnitz.de
UID:7692@www.tu-chemnitz.de
CREATED:20060913T122100Z
DTSTAMP:20210802T195222Z
END:VEVENT
END:VCALENDAR
