BEGIN:VCALENDAR
VERSION:2.0
PRODID:TU Chemnitz
METHOD:PUBLISH
X-WR-CALNAME:Veranstaltungen der TU Chemnitz
X-WR-TIMEZONE:Europe/Berlin
BEGIN:VEVENT
CLASS:PUBLIC
DTSTART;TZID="Europe/Berlin":20060913T213000
DTEND;TZID="Europe/Berlin":20060914T020000
LOCATION:PEB-Studentenkeller\, Reichenhainer Str.37
SUMMARY:PEB-Mittwochsdisco (PEB-Studentenkeller)
DESCRIPTION:Wir weihen unsere neue Bar mit einer\nzünftigen Party ein!\n\nEintritt FREI!
ORGANIZER:MAILTO:thein@mathematik.tu-chemnitz.de
UID:7684@www.tu-chemnitz.de
CREATED:20060912T084700Z
DTSTAMP:20210802T195233Z
END:VEVENT
END:VCALENDAR
