BEGIN:VCALENDAR
VERSION:2.0
PRODID:TU Chemnitz
METHOD:PUBLISH
X-WR-CALNAME:Veranstaltungen der TU Chemnitz
X-WR-TIMEZONE:Europe/Berlin
BEGIN:VEVENT
CLASS:PUBLIC
DTSTART;TZID="Europe/Berlin":19991014T160000
DTEND;TZID="Europe/Berlin":19991014T230000
LOCATION:Uni-Teil 3: Reichenhainer Str. 70\, Chemnitz (Zentr. Hörsaal- und Seminargebäude)
SUMMARY:Die Erstieinführung für E-Techniker\,I-Techniker\,Maschinenbauer und Philosophen (Fachschaftsräte der Fakultäten ET/IT\, MBV\, PHIL)
DESCRIPTION:Man sollte als Erstsemesterstudent einer der aufgeführten Fakultäten \ndieses Treffen nicht versäumen! Denn nur hier hat man zum Anfang des \nStudiums die Möglichkeit Studenten anderer Fakultäten kennenzulernen.\n\no-tag@tu-chemnitz.de
ORGANIZER:MAILTO:maet@hrz.tu-chemnitz.de
UID:767@www.tu-chemnitz.de
CREATED:19991012T023200Z
DTSTAMP:20210802T203309Z
END:VEVENT
END:VCALENDAR
