BEGIN:VCALENDAR
VERSION:2.0
PRODID:TU Chemnitz
METHOD:PUBLISH
X-WR-CALNAME:Veranstaltungen der TU Chemnitz
X-WR-TIMEZONE:Europe/Berlin
BEGIN:VEVENT
CLASS:PUBLIC
DTSTART;TZID="Europe/Berlin":20061116T170000
DTEND;TZID="Europe/Berlin":20061116T193000
LOCATION:Wirkbau Chemnitz; Annaberger Straße 73
SUMMARY:Unternehmensprozesse optimieren (DGQ-Regionalkreis Chemnitz)
DESCRIPTION:Die Themen "Visuelle Beschreibung von Geschäftsprozessen  mit Standardsoftware" und "Mit Product Lifecycle Management ihr QM-Handbuch optimieren" sind sehr wichtig bezüglich der eigenen Prozesse und dem Erscheinungsbild gegenüber den Kunden.\nM. Kaiser\, GF TCC Medienwerkstatt\, Zella-Mehlis und A. Hoffmann\, GF ARC Solutions Chemnitz\nDGQ-Regionalkreisleiter Dr. Althaus\, 0371 531 32266
ORGANIZER:MAILTO:karsten.althaus@mb.tu-chemnitz.de
UID:7668@www.tu-chemnitz.de
CREATED:20060905T104200Z
DTSTAMP:20210802T195150Z
END:VEVENT
END:VCALENDAR
