BEGIN:VCALENDAR
VERSION:2.0
PRODID:TU Chemnitz
METHOD:PUBLISH
X-WR-CALNAME:Veranstaltungen der TU Chemnitz
X-WR-TIMEZONE:Europe/Berlin
BEGIN:VEVENT
CLASS:PUBLIC
DTSTART;TZID="Europe/Berlin":20060914T200000
DTEND;TZID="Europe/Berlin":20060917T120000
LOCATION:Reichenhainer Str. 70\, Chemnitz (Rühlmann-Bau)
SUMMARY:10. Workshop über Future Research in Combinatorial Optimization (Fakultät für Mathematik\, Professur für Algorithmische und Diskrete Mathematik)
DESCRIPTION:Markus Wappler\, 0371-531-34105\, markus.wappler@mathematik.tu-chemnitz.de
ORGANIZER:MAILTO:markus.wappler@mathematik.tu-chemnitz.de
UID:7665@www.tu-chemnitz.de
CREATED:20060901T121200Z
DTSTAMP:20210802T195240Z
END:VEVENT
END:VCALENDAR
