BEGIN:VCALENDAR
VERSION:2.0
PRODID:TU Chemnitz
METHOD:PUBLISH
X-WR-CALNAME:Veranstaltungen der TU Chemnitz
X-WR-TIMEZONE:Europe/Berlin
BEGIN:VEVENT
CLASS:PUBLIC
DTSTART;TZID="Europe/Berlin":20061024T150000
DTEND;TZID="Europe/Berlin":20061024T150000
LOCATION:Reichenhainer Str. 88\, Fraunhofer IWU\, Raum 130/131
SUMMARY:Promotion (Fakultät für Maschinenbau)
DESCRIPTION:Werkzeugwechselkonzepte für Bearbeitungszentren mit kurzer Werkzeugeingriffszeit\nDipl.-Ing. Knut Martens
ORGANIZER:MAILTO:kerstin.hensel@mb.tu-chemnitz.de
UID:7660@www.tu-chemnitz.de
CREATED:20060830T153200Z
DTSTAMP:20210802T195228Z
END:VEVENT
END:VCALENDAR
