BEGIN:VCALENDAR
VERSION:2.0
PRODID:TU Chemnitz
METHOD:PUBLISH
X-WR-CALNAME:Veranstaltungen der TU Chemnitz
X-WR-TIMEZONE:Europe/Berlin
BEGIN:VEVENT
CLASS:PUBLIC
DTSTART;TZID="Europe/Berlin":20060908T090000
DTEND;TZID="Europe/Berlin":20060908T210000
LOCATION:TU Dresden
SUMMARY:Internationales Bildungsforum Ostasien – Deutschland “Global Challenges of Educational Systems and Lifelong Learning” vom 07. bis 10.09.2006 (Philosophische Fakultät\, Professur Erwachsenenbildung und betriebliche Weiterbildung)
DESCRIPTION:Symposium 2: Aus- und Weiterbildung an Hochschulen\nProf. Dr. Roland Schöne
ORGANIZER:MAILTO:jana.voigt@phil.tu-chemnitz.de
UID:7656@www.tu-chemnitz.de
CREATED:20060830T140700Z
DTSTAMP:20210802T195238Z
END:VEVENT
END:VCALENDAR
