BEGIN:VCALENDAR
VERSION:2.0
PRODID:TU Chemnitz
METHOD:PUBLISH
X-WR-CALNAME:Veranstaltungen der TU Chemnitz
X-WR-TIMEZONE:Europe/Berlin
BEGIN:VEVENT
CLASS:PUBLIC
DTSTART;TZID="Europe/Berlin":20060907T090000
DTEND;TZID="Europe/Berlin":20060907T210000
LOCATION: Humboldt-Universität zu Berlin
SUMMARY:Internationales Bildungsforum Ostasien – Deutschland “Global Challenges of Educational Systems and Lifelong Learning” vom 07. bis 10.09.2006  (Philosophische Fakultät\, Professur Erwachsenenbildung und betriebliche Weiterbildung)
DESCRIPTION:Symposium 1: Internationale Entwicklungen im Bereich des Lebenslangen Lernens\nProf. Dr. Roland Schöne
ORGANIZER:MAILTO:jana.voigt@phil.tu-chemnitz.de
UID:7655@www.tu-chemnitz.de
CREATED:20060830T140500Z
DTSTAMP:20210802T195237Z
END:VEVENT
END:VCALENDAR
