BEGIN:VCALENDAR
VERSION:2.0
PRODID:TU Chemnitz
METHOD:PUBLISH
X-WR-CALNAME:Veranstaltungen der TU Chemnitz
X-WR-TIMEZONE:Europe/Berlin
BEGIN:VEVENT
CLASS:PUBLIC
DTSTART;TZID="Europe/Berlin":20060901T210000
DTEND;TZID="Europe/Berlin":20060902T030000
LOCATION:PEB-Studentenkeller\, Reichenhainer Str.37
SUMMARY:SALSA-Night im PEB (PEB-Studentenkeller)
DESCRIPTION:Die älteste Latin-Party in Chemnitz\n& die besten Cocktails weit und breit!\n\nNatürlich wie immer:\nkostenloser Tanzkurs ab 21.30Uhr!
ORGANIZER:MAILTO:thein@mathematik.tu-chemnitz.de
UID:7630@www.tu-chemnitz.de
CREATED:20060814T124400Z
DTSTAMP:20210802T195237Z
END:VEVENT
END:VCALENDAR
