BEGIN:VCALENDAR
VERSION:2.0
PRODID:TU Chemnitz
METHOD:PUBLISH
X-WR-CALNAME:Veranstaltungen der TU Chemnitz
X-WR-TIMEZONE:Europe/Berlin
BEGIN:VEVENT
CLASS:PUBLIC
DTSTART;TZID="Europe/Berlin":20060720T150000
DTEND;TZID="Europe/Berlin":20060720T150000
LOCATION:Reichenhainer Str. 70\, Chemnitz (Rühlmann-Bau)
SUMMARY:Promotion (Fakultät für Maschinenbau)
DESCRIPTION:Influences ot the printing techniques on the electrical performances of conjugated polymers for plastic electronics\nDipl.-Ing. Alessandro Manuelli
ORGANIZER:MAILTO:kerstin.hensel@mb.tu-chemnitz.de
UID:7593@www.tu-chemnitz.de
CREATED:20060707T090400Z
DTSTAMP:20210802T195256Z
END:VEVENT
END:VCALENDAR
