BEGIN:VCALENDAR
VERSION:2.0
PRODID:TU Chemnitz
METHOD:PUBLISH
X-WR-CALNAME:Veranstaltungen der TU Chemnitz
X-WR-TIMEZONE:Europe/Berlin
BEGIN:VEVENT
CLASS:PUBLIC
DTSTART;TZID="Europe/Berlin":20060712T190000
DTEND;TZID="Europe/Berlin":20060712T203000
LOCATION:Reichenhainer Str. 70\, Chemnitz (Weinhold-Bau)
SUMMARY:Die Entstehung der Bartholomäusnacht 1572. Zur Geschichte eines europäischen Ereigniskonzepts (Philosophische Fakultät\, Forum für Europäische Studien)
DESCRIPTION:Prof. Dr. Thomas Nicklas/Universität Toulouse
ORGANIZER:MAILTO:ines.goerg@phil.tu-chemnitz.de
UID:7591@www.tu-chemnitz.de
CREATED:20060706T103700Z
DTSTAMP:20210802T195305Z
END:VEVENT
END:VCALENDAR
