BEGIN:VCALENDAR
VERSION:2.0
PRODID:TU Chemnitz
METHOD:PUBLISH
X-WR-CALNAME:Veranstaltungen der TU Chemnitz
X-WR-TIMEZONE:Europe/Berlin
BEGIN:VEVENT
CLASS:PUBLIC
DTSTART;TZID="Europe/Berlin":20060712T210000
DTEND;TZID="Europe/Berlin":20060712T235900
LOCATION:Reichenhainer Str. 55\, Chemnitz (Mensa)
SUMMARY:ABTAKT- und BEACHPARTY (Moonlightdancing)
DESCRIPTION:Wir feiern den Semesterabtakt gemeinsam mit der Party zu den Beachtagen. Die letzte Party dises Semesters. DX Xian (Black-Music)\, DJ Michalangelo (All Styles) und Sir Duke werden ihre Teller drehen. Aus Prag reist an: Pavel Cholinski.\nMoonlightdancing\ninfo@moonlightdancing.de
ORGANIZER:MAILTO:andreas.david@s1998.tu-chemnitz.de
UID:7590@www.tu-chemnitz.de
CREATED:20060706T100700Z
DTSTAMP:20210802T195257Z
END:VEVENT
END:VCALENDAR
