BEGIN:VCALENDAR
VERSION:2.0
PRODID:TU Chemnitz
METHOD:PUBLISH
X-WR-CALNAME:Veranstaltungen der TU Chemnitz
X-WR-TIMEZONE:Europe/Berlin
BEGIN:VEVENT
CLASS:PUBLIC
DTSTART;TZID="Europe/Berlin":20060628T183000
DTEND;TZID="Europe/Berlin":20060628T200000
LOCATION:Reichenhainer Str. 39\, Chemnitz
SUMMARY:Umweltpolitik und technischer Wandel (Fakultät für Wirtschaftswissenschaften)
DESCRIPTION:Dr. Andreas Löschel\, Europäische Kommission\nDr. Dirk Rübbelke\, dru@hrz.tu-chemnitz.de
ORGANIZER:MAILTO:dru@hrz.tu-chemnitz.de
UID:7566@www.tu-chemnitz.de
CREATED:20060626T215000Z
DTSTAMP:20210802T195320Z
END:VEVENT
END:VCALENDAR
