BEGIN:VCALENDAR
VERSION:2.0
PRODID:TU Chemnitz
METHOD:PUBLISH
X-WR-CALNAME:Veranstaltungen der TU Chemnitz
X-WR-TIMEZONE:Europe/Berlin
BEGIN:VEVENT
CLASS:PUBLIC
DTSTART;TZID="Europe/Berlin":20060629T190000
DTEND;TZID="Europe/Berlin":20060629T190000
LOCATION:Reichenhainer Str. 90\, Chemnitz (Zentr. Hörsaal- und Seminargebäude)
SUMMARY:Staat und Wirtschaft in Großbritannien 1800 - 1914 (Philosophische Fakultät\, Professur Wirtschafts- und Sozialgeschichte)
DESCRIPTION:Prof. Dr. Rudolf Boch
ORGANIZER:MAILTO:sylvia.liebscht@phil.tu-chemnitz.de
UID:7564@www.tu-chemnitz.de
CREATED:20060626T134500Z
DTSTAMP:20210802T195316Z
END:VEVENT
END:VCALENDAR
