BEGIN:VCALENDAR
VERSION:2.0
PRODID:TU Chemnitz
METHOD:PUBLISH
X-WR-CALNAME:Veranstaltungen der TU Chemnitz
X-WR-TIMEZONE:Europe/Berlin
BEGIN:VEVENT
CLASS:PUBLIC
DTSTART;TZID="Europe/Berlin":20060706T153000
DTEND;TZID="Europe/Berlin":20060706T170000
LOCATION:Reichenhainer Str. 90\, Chemnitz (Zentr. Hörsaal- und Seminargebäude)
SUMMARY:Entwurf doppelt-gespeister Windkraftgeneratoren (TU Chemnitz\, Elektrotechnisches Institut)
DESCRIPTION:Dr.-Ing. Peter Stupin\, VEM Sachsenwerk GmbH
ORGANIZER:MAILTO:jozi@hrz.tu-chemnitz.de
UID:7561@www.tu-chemnitz.de
CREATED:20060626T103300Z
DTSTAMP:20210802T195304Z
END:VEVENT
END:VCALENDAR
