BEGIN:VCALENDAR
VERSION:2.0
PRODID:TU Chemnitz
METHOD:PUBLISH
X-WR-CALNAME:Veranstaltungen der TU Chemnitz
X-WR-TIMEZONE:Europe/Berlin
BEGIN:VEVENT
CLASS:PUBLIC
DTSTART;TZID="Europe/Berlin":19991111T181500
DTEND;TZID="Europe/Berlin":19991111T194500
LOCATION:Uni-Teil 3: Reichenhainer Str. 70\, Chemnitz (Zentr. Hörsaal- und Seminargebäude)
SUMMARY:Kolloquiumsvortrag: Zeitenwende. Die "Machtergreifung" 1933 im Fest (Philosophische Fakultät\, Lehrstühle Wirtschafts- und Sozialgeschichte/Geschichte des Mittelalters)
DESCRIPTION:Eine Veranstaltung der Kolloquiumsreihe: Neuere Forschungen auf dem Gebiet der Wirtschafts- und Sozialgeschichte sowie der Geschichte des Mittelalters. \nDer Vortrag ist öffentlich.\nProf. Dr. Werner Freitag (Halle)\nProf. Dr. Rudolf Boch\, Tel. 531-8395\, e-mail: sylvia.weigel@phil.tu-chemnitz.de
ORGANIZER:MAILTO:pev@hrz.tu-chemnitz.de
UID:755@www.tu-chemnitz.de
CREATED:19991007T153400Z
DTSTAMP:20210802T203305Z
END:VEVENT
END:VCALENDAR
