BEGIN:VCALENDAR
VERSION:2.0
PRODID:TU Chemnitz
METHOD:PUBLISH
X-WR-CALNAME:Veranstaltungen der TU Chemnitz
X-WR-TIMEZONE:Europe/Berlin
BEGIN:VEVENT
CLASS:PUBLIC
DTSTART;TZID="Europe/Berlin":19991104T181500
DTEND;TZID="Europe/Berlin":19991104T194500
LOCATION:Uni-Teil 3: Reichenhainer Str. 70\, Chemnitz (Zentr. Hörsaal- und Seminargebäude)
SUMMARY:Kolloquiumsvortrag: Konsum und regionale Identifikation. Das Beispiel Sachsen im 20. Jahrhundert (Philosophische Fakultät\, Lehrstühle Wirtschafts- u. Sozialgeschichte/Geschichte des Mittelalters)
DESCRIPTION:Eine Veranstaltung der Kolloquiumsreihe: Neuere Forschungen auf dem Gebiet der Wirtschafts- und Sozialgeschichte sowie der Geschichte des Mittelalters. \nDer Vortrag ist öffentlich.\nProf. Dr. Hannes Siegrist (Leipzig)\nProf. Dr. Rudolf Boch\, Wirtschafts- u. Sozialgeschichte\, Tel. 531-8395\, e-mail: rudolf.boch@phil.tu-chemnitz.de
ORGANIZER:MAILTO:pev@hrz.tu-chemnitz.de
UID:754@www.tu-chemnitz.de
CREATED:19991007T152700Z
DTSTAMP:20210802T203306Z
END:VEVENT
END:VCALENDAR
