BEGIN:VCALENDAR
VERSION:2.0
PRODID:TU Chemnitz
METHOD:PUBLISH
X-WR-CALNAME:Veranstaltungen der TU Chemnitz
X-WR-TIMEZONE:Europe/Berlin
BEGIN:VEVENT
CLASS:PUBLIC
DTSTART;TZID="Europe/Berlin":20060628T091500
DTEND;TZID="Europe/Berlin":20060628T170000
LOCATION:Erfenschlager Str. 73\, Chemnitz
SUMMARY:VDI: Fallstudie mit ALTRAN (Fakultät für Maschinenbau\, VDI Hochschulgruppe)
DESCRIPTION:Fallstudien mit ALTRAN zu einem technischen Praxisproblem.ALTRAN macht Hightech Engineering & -Beratung für die Großindustrie. Neben Spaß und Lerneffekt habt ihr die Möglichkeit Kontakte zu knüpfen.\nMehr INFOS in der Newsgroup.\nmielke.robert@vdi.de
ORGANIZER:MAILTO:mielke.robert@vdi.de
UID:7533@www.tu-chemnitz.de
CREATED:20060616T104900Z
DTSTAMP:20210802T195321Z
END:VEVENT
END:VCALENDAR
