BEGIN:VCALENDAR
VERSION:2.0
PRODID:TU Chemnitz
METHOD:PUBLISH
X-WR-CALNAME:Veranstaltungen der TU Chemnitz
X-WR-TIMEZONE:Europe/Berlin
BEGIN:VEVENT
CLASS:PUBLIC
DTSTART;TZID="Europe/Berlin":20060613T143000
DTEND;TZID="Europe/Berlin":20060613T224500
LOCATION:Vettersstr. 52/54\, Chemnitz (Studentenwohnheim)
SUMMARY:FUSSBALL-WM (windKanal e.V.)
DESCRIPTION:In gemütlicher Atmosphäre\, \nFussball \nauf einer großen Leinwand geniesen.\n\nHeute\n18.00Uhr Frankreich - Schweiz\n21.00Uhr Brasilien - Kroatien\n\nund im Anschluß: COCKTAILPARTY\n\nEuer \nwindKanal e.V.
ORGANIZER:MAILTO:windkanal@tu-chemnitz.de
UID:7517@www.tu-chemnitz.de
CREATED:20060611T145100Z
DTSTAMP:20210802T195322Z
END:VEVENT
END:VCALENDAR
