BEGIN:VCALENDAR
VERSION:2.0
PRODID:TU Chemnitz
METHOD:PUBLISH
X-WR-CALNAME:Veranstaltungen der TU Chemnitz
X-WR-TIMEZONE:Europe/Berlin
BEGIN:VEVENT
CLASS:PUBLIC
DTSTART;TZID="Europe/Berlin":20060610T210000
DTEND;TZID="Europe/Berlin":20060610T210000
LOCATION:Bunker-Club * Rosenplatz 7 * gleich am Campus
SUMMARY:Live: DIE ROTEN RATTEN (Ex: Heiter bis Wolkig!!) (TU Chemnitz)
DESCRIPTION:Punk-Rock-Komedie-Kabarett von und mit den Kult-Blödel-Punkern von HBW...\ndoors:21.00
ORGANIZER:MAILTO:schneide@hrz.tu-chemnitz.de
UID:7515@www.tu-chemnitz.de
CREATED:20060610T200500Z
DTSTAMP:20210802T195311Z
END:VEVENT
END:VCALENDAR
