BEGIN:VCALENDAR
VERSION:2.0
PRODID:TU Chemnitz
METHOD:PUBLISH
X-WR-CALNAME:Veranstaltungen der TU Chemnitz
X-WR-TIMEZONE:Europe/Berlin
BEGIN:VEVENT
CLASS:PUBLIC
DTSTART;TZID="Europe/Berlin":20060613T210000
DTEND;TZID="Europe/Berlin":20060613T210000
LOCATION:Kino\, Reichenhainer Str. 35/37
SUMMARY:[Kino * "mittendrin"] Die lange Nacht der Kurzen Filme (Eintritt frei) (Filmclub »mittendrin«)
DESCRIPTION:4 Stunden Kurzfilme am laufenden Band: teils aus dem eigenen Archiv (aus längst vergangener Zeit)\, teils angesammelte Kurzfilmperlen der letzten Jahre.\nAuf alle Fälle aber unterhaltsame\, schräge und vor allem witzige (nicht alle auch gewollt) Filmchen ...
ORGANIZER:MAILTO:schneide@hrz.tu-chemnitz.de
UID:7509@www.tu-chemnitz.de
CREATED:20060607T182600Z
DTSTAMP:20210802T195322Z
END:VEVENT
END:VCALENDAR
