BEGIN:VCALENDAR
VERSION:2.0
PRODID:TU Chemnitz
METHOD:PUBLISH
X-WR-CALNAME:Veranstaltungen der TU Chemnitz
X-WR-TIMEZONE:Europe/Berlin
BEGIN:VEVENT
CLASS:PUBLIC
DTSTART;TZID="Europe/Berlin":20060703T170000
DTEND;TZID="Europe/Berlin":20060703T200000
LOCATION:Neue Sächsiche Galerie\, Moritzstraße 20\, 09111 Chemnitz ( im Tietz)
SUMMARY:... und morgen war Krieg (Rosa-Luxemburg-Stiftung Sachsen e.V. und vereinigung der Verfolgten des Naziregimes / Bund der Antifaschisten)
DESCRIPTION:Wladimir Gall (Moskau) erinnert sich an den faschistischen Überfall der deutschen Wehrmacht vom 22. Juni 1941 auf seine Heimat\, die Sowjetunion vor 65 Jahren.\nWladimir Gall (Veteran des großen Vaterländische Krieges)\nEintritt frei / 0371 - 5382718
ORGANIZER:MAILTO:tki@hrz.tu-chemnitz.de
UID:7508@www.tu-chemnitz.de
CREATED:20060607T141700Z
DTSTAMP:20210802T195258Z
END:VEVENT
END:VCALENDAR
