BEGIN:VCALENDAR
VERSION:2.0
PRODID:TU Chemnitz
METHOD:PUBLISH
X-WR-CALNAME:Veranstaltungen der TU Chemnitz
X-WR-TIMEZONE:Europe/Berlin
BEGIN:VEVENT
CLASS:PUBLIC
DTSTART;TZID="Europe/Berlin":20060621T220000
DTEND;TZID="Europe/Berlin":20060622T030000
LOCATION:Reichenhainer Str. 41\, Chemnitz
SUMMARY:Indie Attacks (PEB)
DESCRIPTION:\nIndiepop\, Britrock & Beyond;\n\nEintritt frei!
ORGANIZER:MAILTO:Kenny.Pagel@arcor.de
UID:7495@www.tu-chemnitz.de
CREATED:20060606T220700Z
DTSTAMP:20210802T195311Z
END:VEVENT
END:VCALENDAR
