BEGIN:VCALENDAR
VERSION:2.0
PRODID:TU Chemnitz
METHOD:PUBLISH
X-WR-CALNAME:Veranstaltungen der TU Chemnitz
X-WR-TIMEZONE:Europe/Berlin
BEGIN:VEVENT
CLASS:PUBLIC
DTSTART;TZID="Europe/Berlin":20060616T200000
DTEND;TZID="Europe/Berlin":20060617T010000
LOCATION:Club der Kulturen (Kompass)
SUMMARY:Faces of Jazz Extra - Philiaton64 & Friends Concert & Jam Session (Club der Kulturen)
DESCRIPTION:Im Rahmen des Musikmonats im Club der Kulturen präsentieren wir Euch heute Philiaton64 & Friends\, eine multikulturelle studentische Jazzformation! Mehr Infos unter www.club-der-kulturen.de\nMark Schreiber\, Tel: 4254\, email: mark.schreiber@phil.tu-chemnitz.de
ORGANIZER:MAILTO:mark.schreiber@phil.tu-chemnitz.de
UID:7493@www.tu-chemnitz.de
CREATED:20060606T153700Z
DTSTAMP:20210802T195318Z
END:VEVENT
END:VCALENDAR
