BEGIN:VCALENDAR
VERSION:2.0
PRODID:TU Chemnitz
METHOD:PUBLISH
X-WR-CALNAME:Veranstaltungen der TU Chemnitz
X-WR-TIMEZONE:Europe/Berlin
BEGIN:VEVENT
CLASS:PUBLIC
DTSTART;TZID="Europe/Berlin":20060606T210000
DTEND;TZID="Europe/Berlin":20060606T210000
LOCATION:Kino\, Reichenhainer Str. 35/37\, Keller
SUMMARY:[Kino * "mittendrin"] V wie Vendetta (Filmclub »mittendrin«)
DESCRIPTION:Die wortgewaltige Verfilmung eines Kult-Comics aus den 80ern ist das jüngste Kind der Brüder Wachowski.\nHier ist wieder der Einfallsreichtum und Sinn für bedrückende Science-Fiction-Welten\, der noch den ersten "Matrix"-Film ausgezeichnet hatte!
ORGANIZER:MAILTO:schneide@hrz.tu-chemnitz.de
UID:7492@www.tu-chemnitz.de
CREATED:20060606T153300Z
DTSTAMP:20210802T195319Z
END:VEVENT
END:VCALENDAR
