BEGIN:VCALENDAR
VERSION:2.0
PRODID:TU Chemnitz
METHOD:PUBLISH
X-WR-CALNAME:Veranstaltungen der TU Chemnitz
X-WR-TIMEZONE:Europe/Berlin
BEGIN:VEVENT
CLASS:PUBLIC
DTSTART;TZID="Europe/Berlin":20060623T210000
DTEND;TZID="Europe/Berlin":20060623T230000
LOCATION:KAPITAL (hinterm Marx Monument)
SUMMARY:Klub Moskau "Studenten aller Länder vereinigt euch!"  (Initiative Europastudien e.V.)
DESCRIPTION:Russendiskothek: Die markanten russischen und osteuropäischen Sounds (Funk\, Balkan\, Indie\,...) bringen nicht nur Europastudenten zum tanzen. Der Moskauer DJ Yuhan zeigt euch seine musikalische Heimat. Also dawei dawei!!! Eintritt 2€\nDJ Yuhan (Moskau)
ORGANIZER:MAILTO:sgau@hrz.tu-chemnitz.de
UID:7480@www.tu-chemnitz.de
CREATED:20060531T172500Z
DTSTAMP:20210802T195319Z
END:VEVENT
END:VCALENDAR
