BEGIN:VCALENDAR
VERSION:2.0
PRODID:TU Chemnitz
METHOD:PUBLISH
X-WR-CALNAME:Veranstaltungen der TU Chemnitz
X-WR-TIMEZONE:Europe/Berlin
BEGIN:VEVENT
CLASS:PUBLIC
DTSTART;TZID="Europe/Berlin":20060607T130000
DTEND;TZID="Europe/Berlin":20060607T150000
LOCATION:Str. der Nationen 62\, Chemnitz (Böttcher-Bau)
SUMMARY:Informatik-Kolloquium (Fakultät für Informatik\, Praktische Informatik)
DESCRIPTION:Integration von Task-Scheduling Techniken in Übersetzer für parallele Sprachen\nHerr Prof. Wolf Zimmermann
ORGANIZER:MAILTO:dekanat@informatik.tu-chemnitz.de
UID:7477@www.tu-chemnitz.de
CREATED:20060531T100900Z
DTSTAMP:20210802T195310Z
END:VEVENT
END:VCALENDAR
