BEGIN:VCALENDAR
VERSION:2.0
PRODID:TU Chemnitz
METHOD:PUBLISH
X-WR-CALNAME:Veranstaltungen der TU Chemnitz
X-WR-TIMEZONE:Europe/Berlin
BEGIN:VEVENT
CLASS:PUBLIC
DTSTART;TZID="Europe/Berlin":20060806T210000
DTEND;TZID="Europe/Berlin":20060806T230000
LOCATION:Splash!-Festivalgelände Stausee Oberrabenstein
SUMMARY:splash! meets classic - Hip-Hop-Allstarts featuring Robert-Schumann-Philharmonie (Robert-Schumann-Philharmonie Chemnitz\, Splash! Entertainment AG; Professur Marketing)
DESCRIPTION:Robert-Schumann-Philharmonie Chemnitz\, Samy Deluxe\, Beginners\, Tefla&Jaleel\, Curse u.v.a.
ORGANIZER:MAILTO:drengner@wirtschaft.tu-chemnitz.de
UID:7472@www.tu-chemnitz.de
CREATED:20060529T102000Z
DTSTAMP:20210802T195252Z
END:VEVENT
END:VCALENDAR
