BEGIN:VCALENDAR
VERSION:2.0
PRODID:TU Chemnitz
METHOD:PUBLISH
X-WR-CALNAME:Veranstaltungen der TU Chemnitz
X-WR-TIMEZONE:Europe/Berlin
BEGIN:VEVENT
CLASS:PUBLIC
DTSTART;TZID="Europe/Berlin":20060526T210000
DTEND;TZID="Europe/Berlin":20060526T210000
LOCATION:Bunker-Club * Rosenplatz 7 * gleich am Campus
SUMMARY:Live: ANTONIO GARCIA Y LOS ROQUEROS (E) + THE FRIGHT (UK)
DESCRIPTION:Antonio ist Rockabilly - gemein\, überheblich\, eklig und verrückt. Die Roqueros geben Unterstützung mit treibendem Rockabilly mit spanischen Texten und coolen Surf-Einlagen.\nLupenreinen Horrorpunk gibts als Support von The Fright.\ndoors: 21.00.
ORGANIZER:MAILTO:schneide@hrz.tu-chemnitz.de
UID:7465@www.tu-chemnitz.de
CREATED:20060526T132800Z
DTSTAMP:20210802T195329Z
END:VEVENT
END:VCALENDAR
