BEGIN:VCALENDAR
VERSION:2.0
PRODID:TU Chemnitz
METHOD:PUBLISH
X-WR-CALNAME:Veranstaltungen der TU Chemnitz
X-WR-TIMEZONE:Europe/Berlin
BEGIN:VEVENT
CLASS:PUBLIC
DTSTART;TZID="Europe/Berlin":20060601T200000
DTEND;TZID="Europe/Berlin":20060601T220000
LOCATION:Reichenhainer Str. 70\, Chemnitz (Rühlmann-Bau)
SUMMARY:Kongo-Einsatz der Bundeswehr (St.V. Teutonia)
DESCRIPTION:Kongo-Einsatz der Bundeswehr\, Soldatenleben für "deutsche Interessen"?\nAn der Uni sollten auch hier und da interessante Flyer hängen. \nAlso jeder der Lust ein paar Informationen zu diesem Thema zu erhaschen\, sollte am Donnerstag vorbeischauen.\nMartin Witschaß\nwww.teutonenweb.de
ORGANIZER:MAILTO:martin.witschass@s2005.tu-chemnitz.de
UID:7463@www.tu-chemnitz.de
CREATED:20060524T121300Z
DTSTAMP:20210802T195315Z
END:VEVENT
END:VCALENDAR
