BEGIN:VCALENDAR
VERSION:2.0
PRODID:TU Chemnitz
METHOD:PUBLISH
X-WR-CALNAME:Veranstaltungen der TU Chemnitz
X-WR-TIMEZONE:Europe/Berlin
BEGIN:VEVENT
CLASS:PUBLIC
DTSTART;TZID="Europe/Berlin":20060524T180000
DTEND;TZID="Europe/Berlin":20060524T220000
LOCATION:Reichenhainer Str. 41\, Chemnitz
SUMMARY:Philosophischer Grillabend (Fachgruppe Philosophie)
DESCRIPTION:Eingeladen sind alle Philosophie-Studenten\, -Dozenten und -Interessierte. Mitzubringen sind nur: Hunger\, Durst und gute Laune!
ORGANIZER:MAILTO:fachgruppe.philosophie@arcor.de
UID:7461@www.tu-chemnitz.de
CREATED:20060524T064900Z
DTSTAMP:20210802T195341Z
END:VEVENT
END:VCALENDAR
