BEGIN:VCALENDAR
VERSION:2.0
PRODID:TU Chemnitz
METHOD:PUBLISH
X-WR-CALNAME:Veranstaltungen der TU Chemnitz
X-WR-TIMEZONE:Europe/Berlin
BEGIN:VEVENT
CLASS:PUBLIC
DTSTART;TZID="Europe/Berlin":20060615T190000
DTEND;TZID="Europe/Berlin":20060615T190000
LOCATION:Reichenhainer Str. 90\, Chemnitz (Zentr. Hörsaal- und Seminargebäude)
SUMMARY:Seminar Zeitmanagement - Wann lebe ich? (VWI Hochschulgruppe)
DESCRIPTION:Dir fehlt die Zeit? - und du fragst dich\, ob du zu wenig davon hast oder du sie dir nur falsch einteilst? Dann bist du hier genau richtig!\nTitus Lindl
ORGANIZER:MAILTO:phei@hrz.tu-chemnitz.de
UID:7457@www.tu-chemnitz.de
CREATED:20060523T083100Z
DTSTAMP:20210802T195322Z
END:VEVENT
END:VCALENDAR
