BEGIN:VCALENDAR
VERSION:2.0
PRODID:TU Chemnitz
METHOD:PUBLISH
X-WR-CALNAME:Veranstaltungen der TU Chemnitz
X-WR-TIMEZONE:Europe/Berlin
BEGIN:VEVENT
CLASS:PUBLIC
DTSTART;TZID="Europe/Berlin":20060524T190000
DTEND;TZID="Europe/Berlin":20060525T040000
LOCATION:PEB Studentenkeller
SUMMARY:Mikes Caipi Party #9 (TU Chemnitz\, PEB Studentenkeller)
DESCRIPTION:Es ist wieder so weit ... es gibt wieder jede Menge von Caipis :-)
ORGANIZER:MAILTO:1.11@gmx.de
UID:7439@www.tu-chemnitz.de
CREATED:20060518T023000Z
DTSTAMP:20210802T195332Z
END:VEVENT
END:VCALENDAR
