BEGIN:VCALENDAR
VERSION:2.0
PRODID:TU Chemnitz
METHOD:PUBLISH
X-WR-CALNAME:Veranstaltungen der TU Chemnitz
X-WR-TIMEZONE:Europe/Berlin
BEGIN:VEVENT
CLASS:PUBLIC
DTSTART;TZID="Europe/Berlin":20060601T080000
DTEND;TZID="Europe/Berlin":20060601T180000
LOCATION:Reichenhainer Str. 90\, Chemnitz (Zentr. Hörsaal- und Seminargebäude)
SUMMARY:Fallstudienwettbewerb (AIESEC)
DESCRIPTION:Neben der Bearbeitung einer Fallstudie und der Präsentation des Ergebnisses erhalten die Teilnehmer tieferen Einblick in das Berufsfeld des Vermögensberaters. Zudem bietet der Wettbewerb die Chance\, das eigene "Netzwerk" um Kontakte zu erweitern.\nSilvio Hagen\, Deutsche Vermögensberatung AG\nMaja Heidrich\, 0371-54398 (Büro AIESEC)\, chemnitz@aiesec.de (Anmeldeschluss: 24.05.06)
ORGANIZER:MAILTO:maja.heidrich@s2005.tu-chemnitz.de
UID:7418@www.tu-chemnitz.de
CREATED:20060511T123200Z
DTSTAMP:20210802T195323Z
END:VEVENT
END:VCALENDAR
