BEGIN:VCALENDAR
VERSION:2.0
PRODID:TU Chemnitz
METHOD:PUBLISH
X-WR-CALNAME:Veranstaltungen der TU Chemnitz
X-WR-TIMEZONE:Europe/Berlin
BEGIN:VEVENT
CLASS:PUBLIC
DTSTART;TZID="Europe/Berlin":20060717T093000
DTEND;TZID="Europe/Berlin":20060717T170000
LOCATION:Reichenhainer Str. 70\, Chemnitz (Weinhold-Bau)
SUMMARY:13. Chemnitzer Schüler-Sommerschule für Physik (Fakultät für Naturwissenschaften\, Institut für Physik)
DESCRIPTION:Veranstaltungsplan\nProf. Dr. W. Hoyer; Begrüßung durch den Studiendekan Physik\nDr. E. Fromm; Tel:531 3207/3212
ORGANIZER:MAILTO:annerose.mueller@physik.tu-chemnitz.de
UID:7410@www.tu-chemnitz.de
CREATED:20060510T134100Z
DTSTAMP:20210802T195259Z
END:VEVENT
END:VCALENDAR
