BEGIN:VCALENDAR
VERSION:2.0
PRODID:TU Chemnitz
METHOD:PUBLISH
X-WR-CALNAME:Veranstaltungen der TU Chemnitz
X-WR-TIMEZONE:Europe/Berlin
BEGIN:VEVENT
CLASS:PUBLIC
DTSTART;TZID="Europe/Berlin":20060705T171500
DTEND;TZID="Europe/Berlin":20060705T190000
LOCATION:Reichenhainer Str. 90\, Chemnitz (Zentr. Hörsaal- und Seminargebäude)
SUMMARY:Wissenschaftliches Kolloquium des Institutes für Soziologie: "Soziale Ungleichheit und Lebenserwartung" (Philosophische Fakultät\, Institut für Soziologie)
DESCRIPTION:Prof. Dr. Thomas Klein
ORGANIZER:MAILTO:diana.zierold@phil.tu-chemnitz.de
UID:7407@www.tu-chemnitz.de
CREATED:20060509T153000Z
DTSTAMP:20210802T195301Z
END:VEVENT
END:VCALENDAR
