BEGIN:VCALENDAR
VERSION:2.0
PRODID:TU Chemnitz
METHOD:PUBLISH
X-WR-CALNAME:Veranstaltungen der TU Chemnitz
X-WR-TIMEZONE:Europe/Berlin
BEGIN:VEVENT
CLASS:PUBLIC
DTSTART;TZID="Europe/Berlin":20060511T190000
DTEND;TZID="Europe/Berlin":20060513T100000
LOCATION:Reichenhainer Str. 90\, Chemnitz (Zentr. Hörsaal- und Seminargebäude)
SUMMARY:Walkshop "Operators\, Spectra and Mathematical Physics" (Professur Analysis\, Juniorprofessur Mathematische Physik\, Emmy-Noether-Gruppe Schrödinger Operatoren)
DESCRIPTION:The walkshop features five talks on topics in the spectral theory of operators and mathematical physics. Additionally there will be a hike allowing for ample time for informal discussions.\nDaniel Lenz\, Peter Stollmann\, Ivan Veselic'
ORGANIZER:MAILTO:ivan.veselic@mathematik.tu-chemnitz.de
UID:7390@www.tu-chemnitz.de
CREATED:20060503T191800Z
DTSTAMP:20210802T195331Z
END:VEVENT
END:VCALENDAR
