BEGIN:VCALENDAR
VERSION:2.0
PRODID:TU Chemnitz
METHOD:PUBLISH
X-WR-CALNAME:Veranstaltungen der TU Chemnitz
X-WR-TIMEZONE:Europe/Berlin
BEGIN:VEVENT
CLASS:PUBLIC
DTSTART;TZID="Europe/Berlin":19991014T180000
DTEND;TZID="Europe/Berlin":19991014T200000
LOCATION:Uni-Teil 3: Reichenhainer Str. 70\, Chemnitz (Zentr. Hörsaal- und Seminargebäude)
SUMMARY:Kolloquium: Innen und Außen - Klosterreform und Klausur in Norm und Wahrnehmung spätmittelalterlicher Frauenkonvente (Philosophische Fakultät\, Geschichte des Mittelalters / Wirtschafts- und Sozialgeschichte)
DESCRIPTION:Dr. Heike Uffmann (Bielefeld)
ORGANIZER:MAILTO:nosc@hrz.tu-chemnitz.de
UID:739@www.tu-chemnitz.de
CREATED:19991006T212800Z
DTSTAMP:20210802T203312Z
END:VEVENT
END:VCALENDAR
