BEGIN:VCALENDAR
VERSION:2.0
PRODID:TU Chemnitz
METHOD:PUBLISH
X-WR-CALNAME:Veranstaltungen der TU Chemnitz
X-WR-TIMEZONE:Europe/Berlin
BEGIN:VEVENT
CLASS:PUBLIC
DTSTART;TZID="Europe/Berlin":20060529T100000
DTEND;TZID="Europe/Berlin":20060529T100000
LOCATION:Reichenhainer Str. 90\, Chemnitz (Zentr. Hörsaal- und Seminargebäude)
SUMMARY:Promotion (Fakultät für Maschinenbau)
DESCRIPTION:Gestaltungsmerkmale und mechanische Eigenschaften druckelastischer Abstandsgewirke\nDipl.-Ing. Frank Uwe Helbig
ORGANIZER:MAILTO:kerstin.hensel@mb.tu-chemnitz.de
UID:7384@www.tu-chemnitz.de
CREATED:20060503T100000Z
DTSTAMP:20210802T195337Z
END:VEVENT
END:VCALENDAR
