BEGIN:VCALENDAR
VERSION:2.0
PRODID:TU Chemnitz
METHOD:PUBLISH
X-WR-CALNAME:Veranstaltungen der TU Chemnitz
X-WR-TIMEZONE:Europe/Berlin
BEGIN:VEVENT
CLASS:PUBLIC
DTSTART;TZID="Europe/Berlin":19991208T170000
DTEND;TZID="Europe/Berlin":19991208T183000
LOCATION:Uni-Teil 3: Reichenhainer Str. 70\, Chemnitz (Zentr. Hörsaal- und Seminargebäude)
SUMMARY:Schnelle optische Datenspeicher mit hoher Speicherdichte (Fakultät für Naturwissenschaften\, Institut für Physik)
DESCRIPTION:Physikalisches Kolloquium\nProf. Dr. Matthias Wuttig\, RWTH Aachen\nProf. Dr. F. Richter\, Tel. 5318046
ORGANIZER:MAILTO:flei@hrz.tu-chemnitz.de
UID:738@www.tu-chemnitz.de
CREATED:19991006T110400Z
DTSTAMP:20210802T203245Z
END:VEVENT
END:VCALENDAR
