BEGIN:VCALENDAR
VERSION:2.0
PRODID:TU Chemnitz
METHOD:PUBLISH
X-WR-CALNAME:Veranstaltungen der TU Chemnitz
X-WR-TIMEZONE:Europe/Berlin
BEGIN:VEVENT
CLASS:PUBLIC
DTSTART;TZID="Europe/Berlin":20060508T171500
DTEND;TZID="Europe/Berlin":20060508T190000
LOCATION:Reichenhainer Str. 70\, Chemnitz (Rühlmann-Bau)
SUMMARY:8. Mai - war da da nicht was?: Rechte Strukturen in Chemnitz (RHG - Die Rote Hochschulgruppe an der TU Chemnitz)
DESCRIPTION:Am 8. Mai 1945 wurde Europa vom Natinalsozialismus befreit. Aber Rechtsextremismus gibt es immer noch. Die Veranstaltung will einen Überblick über rechte Strukturen in Chemnitz geben und diskutieren.\nJens Paßlack\, Mobiles Beratungsteam Neukirchen\nrhg-info@rothaus-chemnitz.de
ORGANIZER:MAILTO:rhg-info@rothaus-chemnitz.de
UID:7364@www.tu-chemnitz.de
CREATED:20060427T141100Z
DTSTAMP:20210802T195333Z
END:VEVENT
END:VCALENDAR
