BEGIN:VCALENDAR
VERSION:2.0
PRODID:TU Chemnitz
METHOD:PUBLISH
X-WR-CALNAME:Veranstaltungen der TU Chemnitz
X-WR-TIMEZONE:Europe/Berlin
BEGIN:VEVENT
CLASS:PUBLIC
DTSTART;TZID="Europe/Berlin":20060503T170000
DTEND;TZID="Europe/Berlin":20060503T190000
LOCATION:Reichenhainer Str. 90\, Chemnitz (Zentr. Hörsaal- und Seminargebäude)
SUMMARY:Wissenschaftliches Kolloquium des Institutes für Soziologie: "Fehlschlüsse und richtige Schlüsse in der Globalisierungsdiagnostik (Philosophische Fakultät\, Institut für Soziologie)
DESCRIPTION:Walter Reese-Schäfer ist Professor für Politische Theorie und Ideengeschichte an der Georg-August-Universität Göttingen.\nProf. Dr. Walter Reese-Schäfer
ORGANIZER:MAILTO:diana.zierold@phil.tu-chemnitz.de
UID:7355@www.tu-chemnitz.de
CREATED:20060425T172400Z
DTSTAMP:20210802T195342Z
END:VEVENT
END:VCALENDAR
