BEGIN:VCALENDAR
VERSION:2.0
PRODID:TU Chemnitz
METHOD:PUBLISH
X-WR-CALNAME:Veranstaltungen der TU Chemnitz
X-WR-TIMEZONE:Europe/Berlin
BEGIN:VEVENT
CLASS:PUBLIC
DTSTART;TZID="Europe/Berlin":20060616T110000
DTEND;TZID="Europe/Berlin":20060617T130000
LOCATION:freitags 2/NK003\, samstags 2/D201
SUMMARY:Wissenschaftliches Arbeiten\, Teil II (Philosophische Fakultät\, Germanistik)
DESCRIPTION:Der viertägige Workshop wird so im SoSe 06 zum ersten Mal angeboten. Der erste Teil (05./06.05.) dient der Vermittlung und dem Üben grundlegender Fertigkeiten\, der zweite Teil dient der Vertiefung und der Arbeit an eigenen Schreibprojekten.\nDr. Monika Hähnel / Andreas Monz\ns. Homepage des Schreibzentrums
ORGANIZER:MAILTO:andreas.monz@phil.tu-chemnitz.de
UID:7350@www.tu-chemnitz.de
CREATED:20060425T135100Z
DTSTAMP:20210802T195307Z
END:VEVENT
END:VCALENDAR
