BEGIN:VCALENDAR
VERSION:2.0
PRODID:TU Chemnitz
METHOD:PUBLISH
X-WR-CALNAME:Veranstaltungen der TU Chemnitz
X-WR-TIMEZONE:Europe/Berlin
BEGIN:VEVENT
CLASS:PUBLIC
DTSTART;TZID="Europe/Berlin":20060426T213000
DTEND;TZID="Europe/Berlin":20060427T020000
LOCATION:PEB-Studentenkeller\, Reichenhainer Str.37
SUMMARY:PEB-Mittwochsdisco (PEB-Studentenkeller)
DESCRIPTION:Lust auf Flirten\, Party feiern\, Abtanzen?\nDann ab in den PEB zur ultimativen\nMittwochs-Party auf dem Campus!\n\nCocktail Special: Cuba Libre für 2 Euro!!\n\nEintritt frei!
ORGANIZER:MAILTO:thein@mathematik.tu-chemnitz.de
UID:7342@www.tu-chemnitz.de
CREATED:20060424T133200Z
DTSTAMP:20210802T195425Z
END:VEVENT
END:VCALENDAR
